BEGIN:VCALENDAR
VERSION:2.0
PRODID:-//wp-events-plugin.com//7.2.3.1//EN
TZID:America/New_York
X-WR-TIMEZONE:America/New_York
BEGIN:VEVENT
UID:7222@tbzbrookline.org
DTSTART;TZID=America/New_York:20260322T083000
DTEND;TZID=America/New_York:20260322T153000
DTSTAMP:20260319T204411Z
URL:https://www.tbzbrookline.org/events/womens-retreat-2/
SUMMARY:14th Annual TBZ Women’s Retreat Vayinafash: A Re-Souling (in pers
 on)
DESCRIPTION:Sunday\, March 22: 8:30am-3:30pm (in person)\n\nFor TBZ Members
  Only\n\nVayinafash is a verb from Genesis 2:2\, often translated as “Go
 d rested\,” but meaning more deeply “God caught God’s breath” or 
 “God became refreshed” on Shabbat\, linking to the Hebrew word for sou
 l (nefesh). This reminds us that Shabbat is not just about not working\, b
 ut it is a sacred pause for spiritual renewal. Our retreat will be a mini 
 sabbath for all people who experience the world as women\, an opportunity 
 for sacred pause and spiritual renewal on 3 planes of soul: nefesh\, ruach
 \, and neshama. Join us for part or all of the day to experience connectio
 n\, learning\, a new lunch menu\, and a re-souling for the weeks and month
 s to come!\n\nHear from past participants what they’ve loved about the W
 omen’s Retreat:\n“Connecting with women I hadn’t met or barely knew!
 ! I made a new friend!”\n“The connections between and build up from on
 e session to the next - different mediums for the same goal - it was power
 ful.”\n“Self-care and rest are particularly important to me these days
 \, so the theme really spoke to me.”\n“The slow pace\, relaxed environ
 ment\, different kinds of activities\, and being together in person”\n\n
 For TBZ Members Only. Sign up by Friday\, March 20.\n\nRegister here.
ATTACH;FMTTYPE=image/jpeg:https://www.tbzbrookline.org/wp-content/uploads/
 2025/05/WomensRetreat_Square.png
CATEGORIES:Adult Learning,Homepage Featured,In person,Pray,Social
LOCATION:Temple Beth Zion\, 1566 Beacon St.\, Brookline\, MA\, 02446-2209\,
  United States
X-APPLE-STRUCTURED-LOCATION;VALUE=URI;X-ADDRESS=1566 Beacon St.\, Brookline
 \, MA\, 02446-2209\, United States;X-APPLE-RADIUS=100;X-TITLE=Temple Beth 
 Zion:geo:0,0
END:VEVENT
BEGIN:VTIMEZONE
TZID:America/New_York
X-LIC-LOCATION:America/New_York
BEGIN:DAYLIGHT
DTSTART:20260308T030000
TZOFFSETFROM:-0500
TZOFFSETTO:-0400
TZNAME:EDT
END:DAYLIGHT
END:VTIMEZONE
END:VCALENDAR