BEGIN:VCALENDAR
VERSION:2.0
PRODID:-//wp-events-plugin.com//7.2.3.1//EN
TZID:America/New_York
X-WR-TIMEZONE:America/New_York
BEGIN:VEVENT
UID:7901@tbzbrookline.org
DTSTART;TZID=America/New_York:20260131T133000
DTEND;TZID=America/New_York:20260131T150000
DTSTAMP:20260118T182147Z
URL:https://www.tbzbrookline.org/events/tu-bishvat-tree-talk-walk-and-cele
 bration-in-person/
SUMMARY:Tu BiShvat Tree Talk\, Walk and Celebration! (in person)
DESCRIPTION:\nAfter Kiddush\, January 31st\, gathering at 1:30 in the Meeti
 ng Room\nJoin TBZ Member\, naturalist and artist Rebecca Arnoldi to celebr
 ate Tu BiShvat! We will:\n• Talk briefly about tree dormancy and our ne
 ed for rest\n• Go outdoors to observe buds and use our senses to get
  to know different local tree species and individuals at TBZ\n• Celebr
 ate our sleepy urban forest with song\, fruits and blessing for ourselve
 s and the trees that surround us!\n• Share ways to protect and grow th
 e urban forest to benefit pollinators\, wildlife and our own health\, wel
 lbeing &amp\; climate resiliency\n\n\n\n\n\n\n&nbsp\;\n\n\n\n\n
ATTACH;FMTTYPE=image/jpeg:https://www.tbzbrookline.org/wp-content/uploads/
 2026/01/RebeccaArnoldi_Square.png
CATEGORIES:Adult Learning,Holidays,Homepage Featured,In person,Kiddush
 Talks and Tables,Shabbat
LOCATION:Temple Beth Zion\, 1566 Beacon St.\, Brookline\, MA\, 02446-2209\,
  United States
X-APPLE-STRUCTURED-LOCATION;VALUE=URI;X-ADDRESS=1566 Beacon St.\, Brookline
 \, MA\, 02446-2209\, United States;X-APPLE-RADIUS=100;X-TITLE=Temple Beth 
 Zion:geo:0,0
END:VEVENT
BEGIN:VTIMEZONE
TZID:America/New_York
X-LIC-LOCATION:America/New_York
BEGIN:STANDARD
DTSTART:20251102T010000
TZOFFSETFROM:-0400
TZOFFSETTO:-0500
TZNAME:EST
END:STANDARD
END:VTIMEZONE
END:VCALENDAR