BEGIN:VCALENDAR
VERSION:2.0
PRODID:-//wp-events-plugin.com//7.2.3.1//EN
TZID:America/New_York
X-WR-TIMEZONE:America/New_York
BEGIN:VEVENT
UID:2639@tbzbrookline.org
DTSTART;TZID=America/New_York:20220806T210000
DTEND;TZID=America/New_York:20220806T223000
DTSTAMP:20220720T113915Z
URL:https://www.tbzbrookline.org/events/tisha-bav-service-2/
SUMMARY:Tisha B'Av Service
DESCRIPTION:Join us for a Tisha B’Av Service on August 6\, at 9:00pm. The
  service will be in-person at TBZ and streamed on YouTube.\n\nIf you would
  like to chant Megilat Eicha please email Rav Claudia.
CATEGORIES:Featured,Remote Activities
END:VEVENT
BEGIN:VTIMEZONE
TZID:America/New_York
X-LIC-LOCATION:America/New_York
BEGIN:DAYLIGHT
DTSTART:20220313T030000
TZOFFSETFROM:-0500
TZOFFSETTO:-0400
TZNAME:EDT
END:DAYLIGHT
END:VTIMEZONE
END:VCALENDAR