BEGIN:VCALENDAR
VERSION:2.0
PRODID:-//wp-events-plugin.com//7.2.3.1//EN
TZID:America/New_York
X-WR-TIMEZONE:America/New_York
BEGIN:VEVENT
UID:3188@tbzbrookline.org
DTSTART;TZID=America/New_York:20220807T170000
DTEND;TZID=America/New_York:20220807T180000
DTSTAMP:20220720T192038Z
URL:https://www.tbzbrookline.org/events/tisha-bav-public-lament-5782/
SUMMARY:Tisha B’av Public Lament 5782
DESCRIPTION:\nTisha B’av Public Lament 5782\nSunday\, August 7  from 5pm
 -6pm\, \nOutside TBZ (front steps)\nOn the saddest day of the Jewish cale
 ndar\, when we fast in remembrance of destruction and exile\, we come toge
 ther to mourn the brokenness of our society and our world. In response to 
 rising antisemitism and systemic racism--we lament. In the wake of Supreme
  Court decisions eviscerating gun control\, limiting environmental protect
 ions\, and denying the right to reproductive freedom\, we lament. In a tim
 e of hearts hardened to the migrant and stranger\, those seeking to breath
 e free–we lament. In a world shattered by war and brutality\, the threat
  of nuclear weapons and climate catastrophe – we lament. We come togethe
 r to grieve\, to resist\, and to gather strength for the work of rebuildin
 g all that is broken. On the day when\, according to Jewish tradition\, th
 e Messiah will be born\, we also come together to imagine another world\, 
 and to learn from those whose work for racial and economic justice is at t
 he forefront of that reimagining.
ATTACH;FMTTYPE=image/jpeg:https://www.tbzbrookline.org/wp-content/uploads/
 2022/07/Tisha-BAv_Aug7.png
CATEGORIES:Featured
LOCATION:Temple Beth Zion\, 1566 Beacon St.\, Brookline\, MA\, 02446-2209\,
  United States
X-APPLE-STRUCTURED-LOCATION;VALUE=URI;X-ADDRESS=1566 Beacon St.\, Brookline
 \, MA\, 02446-2209\, United States;X-APPLE-RADIUS=100;X-TITLE=Temple Beth 
 Zion:geo:0,0
END:VEVENT
BEGIN:VTIMEZONE
TZID:America/New_York
X-LIC-LOCATION:America/New_York
BEGIN:DAYLIGHT
DTSTART:20220313T030000
TZOFFSETFROM:-0500
TZOFFSETTO:-0400
TZNAME:EDT
END:DAYLIGHT
END:VTIMEZONE
END:VCALENDAR