BEGIN:VCALENDAR
VERSION:2.0
PRODID:-//wp-events-plugin.com//7.2.3.1//EN
TZID:America/New_York
X-WR-TIMEZONE:America/New_York
BEGIN:VEVENT
UID:2638@tbzbrookline.org
DTSTART;TZID=America/New_York:20220822T193000
DTEND;TZID=America/New_York:20220822T210000
DTSTAMP:20220808T194549Z
URL:https://www.tbzbrookline.org/events/themes-of-popular-israeli-songs-ve
 rses-in-dialogue-online-discussions-2/
SUMMARY:Rachel and Lea in Words and Music (Live Stream)
DESCRIPTION:\n\n\n\n\n\n\n\n\nRachel and Lea in Words and Music (Live Strea
 m)\n\n\n\n\n\nMonthly: Monday\, August 22\n7:30-9:00pm\n\nLea Goldberg: Th
 e year 2021 was a milestone for trailblazing Israeli women poets—it mark
 s the 90th yahrzeit of the poet Rachel and the 110th anniversary of Lea Go
 ldberg’s birth. In Hebrew\, we use the same word for song and poem—shi
 r. In this discussion group\, we will read\, discuss\, and listen to Lea
 ’s poems set to music in popular Israeli songs. Knowledge of Hebrew is n
 ot necessary. This session will take place over Zoom. Contact Miriam to re
 gister.\n\n\n
END:VEVENT
BEGIN:VTIMEZONE
TZID:America/New_York
X-LIC-LOCATION:America/New_York
BEGIN:DAYLIGHT
DTSTART:20220313T030000
TZOFFSETFROM:-0500
TZOFFSETTO:-0400
TZNAME:EDT
END:DAYLIGHT
END:VTIMEZONE
END:VCALENDAR