BEGIN:VCALENDAR
VERSION:2.0
PRODID:-//wp-events-plugin.com//7.2.3.1//EN
TZID:America/New_York
X-WR-TIMEZONE:America/New_York
BEGIN:VEVENT
UID:1206@tbzbrookline.org
DTSTART;TZID=America/New_York;VALUE=DATE:20211227
DTEND;TZID=America/New_York;VALUE=DATE:20220101
DTSTAMP:20211109T220344Z
URL:https://www.tbzbrookline.org/event-recurring/tbz-offices-closed-2/
SUMMARY:TBZ Offices Closed
DESCRIPTION:
END:VEVENT
BEGIN:VTIMEZONE
TZID:America/New_York
X-LIC-LOCATION:America/New_York
BEGIN:STANDARD
DTSTART:20211107T010000
TZOFFSETFROM:-0400
TZOFFSETTO:-0500
TZNAME:EST
END:STANDARD
END:VTIMEZONE
END:VCALENDAR