BEGIN:VCALENDAR
VERSION:2.0
PRODID:-//wp-events-plugin.com//7.2.3.1//EN
TZID:America/New_York
X-WR-TIMEZONE:America/New_York
BEGIN:VEVENT
UID:2388@tbzbrookline.org
DTSTART;TZID=America/New_York:20220616T180000
DTEND;TZID=America/New_York:20220616T193000
DTSTAMP:20220609T195109Z
URL:https://www.tbzbrookline.org/events/tbz-community-meeting-2/
SUMMARY:TBZ Community Meeting
DESCRIPTION:Join us on Zoom for our bi-annual Community Meeting\nto learn a
 bout the state of the shul\,\nour strategic goals and meet our\nnew Execut
 ive Director and more!\n\nSee Happenings for Zoom link!
ATTACH;FMTTYPE=image/jpeg:https://www.tbzbrookline.org/wp-content/uploads/
 2022/04/community_meeting.jpg
CATEGORIES:Featured,Remote Activities
END:VEVENT
BEGIN:VTIMEZONE
TZID:America/New_York
X-LIC-LOCATION:America/New_York
BEGIN:DAYLIGHT
DTSTART:20220313T030000
TZOFFSETFROM:-0500
TZOFFSETTO:-0400
TZNAME:EDT
END:DAYLIGHT
END:VTIMEZONE
END:VCALENDAR