BEGIN:VCALENDAR
VERSION:2.0
PRODID:-//wp-events-plugin.com//7.2.3.1//EN
TZID:America/New_York
X-WR-TIMEZONE:America/New_York
BEGIN:VEVENT
UID:950@tbzbrookline.org
DTSTART;TZID=America/New_York:20220612T183000
DTEND;TZID=America/New_York:20220612T193000
DTSTAMP:20210714T211648Z
URL:https://www.tbzbrookline.org/events/tbz-book-club-12/
SUMMARY:TBZ Book Club
DESCRIPTION:The TBZ Book Club provides a setting in which TBZ members come 
 together to discuss fiction and non-fiction books with Jewish themes. Mont
 hly meetings on Sunday evenings at TBZ feature lively discussions of books
  by or about Jewish people\, alternating fiction and non-fiction selection
 s. You may find yourself reading books you never knew about or thought to 
 read and meeting other book lovers! Please join us at any time during the 
 year by contacting the Coordinator at tbzbookclub@tbzbrookline.org\n\nJune
 's book: At the Entrance to the Garden of Eden: A Jew’s search for God w
 ith Christians and Muslims in the Holy Land by Yossi Klein Halevi (Discus
 sion facilitated by David)\n\nUpcoming Meeting Date: June 26 - Vote for bo
 oks for next year
END:VEVENT
BEGIN:VTIMEZONE
TZID:America/New_York
X-LIC-LOCATION:America/New_York
BEGIN:DAYLIGHT
DTSTART:20220313T030000
TZOFFSETFROM:-0500
TZOFFSETTO:-0400
TZNAME:EDT
END:DAYLIGHT
END:VTIMEZONE
END:VCALENDAR