BEGIN:VCALENDAR
VERSION:2.0
PRODID:-//wp-events-plugin.com//7.2.3.1//EN
TZID:America/New_York
X-WR-TIMEZONE:America/New_York
BEGIN:VEVENT
UID:4104@tbzbrookline.org
DTSTART;TZID=America/New_York:20230930T100000
DTEND;TZID=America/New_York:20230930T133000
DTSTAMP:20230823T152329Z
URL:https://www.tbzbrookline.org/events/sukkot-and-shabbat-service/
SUMMARY:Sukkot and Shabbat Services - JARTS\, Social Justice Shabbat (in pe
 rson and online)
DESCRIPTION:Spend Shabbat morning in community. Our morning service is offe
 red both in-person and on Zoom.\n\nClick here to download the Shabbat Morn
 ing Siddur.\n\nFind out who is leading Shabbat morning services!\n\n\n\nJA
 RTS Social Justice Shabbat:\n\nBe the Change is an art and activism initia
 tive that is inspired by the Jewish tenet of justice and drawing from the 
 ritualistic Jewish tzedakah box. Be the Change is about making space to 
 talk about injustice – and to give us all action steps to be agents of c
 hange in our local and global communities.\n\nThis year\, you can view the
  art along the Fenway\, August 2 to October 26. TBZ will welcome the Be th
 e Change Global Ambassador Co-Chairs\, Rabbi Menachem Creditor\, the Pearl
  and Ira Meyer Scholar-in-Residence at UJA-Federation New York and founder
  of Rabbis Against Gun Violence\, and Ruth Messinger\, former President an
 d CEO of American Jewish World Service. They will participate in services 
 on Friday night and will lead a kiddush talk after Shabbat morning service
 s.
CATEGORIES:Holidays
END:VEVENT
BEGIN:VTIMEZONE
TZID:America/New_York
X-LIC-LOCATION:America/New_York
BEGIN:DAYLIGHT
DTSTART:20230312T030000
TZOFFSETFROM:-0500
TZOFFSETTO:-0400
TZNAME:EDT
END:DAYLIGHT
END:VTIMEZONE
END:VCALENDAR