BEGIN:VCALENDAR
VERSION:2.0
PRODID:-//wp-events-plugin.com//7.2.3.1//EN
TZID:America/New_York
X-WR-TIMEZONE:America/New_York
BEGIN:VEVENT
UID:2431@tbzbrookline.org
DTSTART;TZID=America/New_York:20220605T100000
DTEND;TZID=America/New_York:20220605T120000
DTSTAMP:20220531T131912Z
URL:https://www.tbzbrookline.org/events/shavuot-service-at-tbz/
SUMMARY:Shavuot Service at TBZ
DESCRIPTION:Online and in-person\nLed by Reb Moshe and Danny Stein\nIncludi
 ng Halel\, Reading of Ruth and Yizkor.\n\nLive-stream on YouTube\n\nor see
  Happenings for Zoom link.
END:VEVENT
BEGIN:VTIMEZONE
TZID:America/New_York
X-LIC-LOCATION:America/New_York
BEGIN:DAYLIGHT
DTSTART:20220313T030000
TZOFFSETFROM:-0500
TZOFFSETTO:-0400
TZNAME:EDT
END:DAYLIGHT
END:VTIMEZONE
END:VCALENDAR