BEGIN:VCALENDAR
VERSION:2.0
PRODID:-//wp-events-plugin.com//7.2.3.1//EN
TZID:America/New_York
X-WR-TIMEZONE:America/New_York
BEGIN:VEVENT
UID:364@tbzbrookline.org
DTSTART;TZID=America/New_York:20220416T100000
DTEND;TZID=America/New_York:20220416T113000
DTSTAMP:20220404T202105Z
URL:https://www.tbzbrookline.org/events/shabbat-services-2022-04-16/
SUMMARY:First Day of Pesach/Shabbat Services - Hybrid
DESCRIPTION:First Day of Pesach/Shabbat Service 10am\n\nIncludes Halel and 
 Prayer for Tal (dew)\n\nOur morning service is offered both in-person and 
 on Zoom.\n\nFollowed by Pesach Kiddush\n\nPlease see our weekly Happenings
  email or call the office (617) 566-8171 for the Zoom link.
CATEGORIES:Remote Activities
END:VEVENT
BEGIN:VTIMEZONE
TZID:America/New_York
X-LIC-LOCATION:America/New_York
BEGIN:DAYLIGHT
DTSTART:20220313T030000
TZOFFSETFROM:-0500
TZOFFSETTO:-0400
TZNAME:EDT
END:DAYLIGHT
END:VTIMEZONE
END:VCALENDAR