BEGIN:VCALENDAR
VERSION:2.0
PRODID:-//wp-events-plugin.com//7.2.3.1//EN
TZID:America/New_York
X-WR-TIMEZONE:America/New_York
BEGIN:VEVENT
UID:7816@tbzbrookline.org
DTSTART;TZID=America/New_York:20260228T090000
DTEND;TZID=America/New_York:20260228T100000
DTSTAMP:20260218T162756Z
URL:https://www.tbzbrookline.org/events/shabbat-morning-yoga-in-person/
SUMMARY:NEW! Shabbat Morning Yoga (in person)
DESCRIPTION:Come as you are\, breathe where you are\, and see how movement 
 can be another way into Shabbat. This is a gentle\, grounding practice\; n
 o prior yoga experience is expected. We’re offering a one-time Shabbat M
 orning Yoga session to see who’s interested. Please sign up here.\n\nIf 
 you are interested but can’t attend this session\, please let Rav Leah k
 now. 
ATTACH;FMTTYPE=image/jpeg:https://www.tbzbrookline.org/wp-content/uploads/
 2026/01/Yoga_Square.png
CATEGORIES:Homepage Featured,In person,Social
LOCATION:Temple Beth Zion\, 1566 Beacon St.\, Brookline\, MA\, 02446-2209\,
  United States
X-APPLE-STRUCTURED-LOCATION;VALUE=URI;X-ADDRESS=1566 Beacon St.\, Brookline
 \, MA\, 02446-2209\, United States;X-APPLE-RADIUS=100;X-TITLE=Temple Beth 
 Zion:geo:0,0
END:VEVENT
BEGIN:VTIMEZONE
TZID:America/New_York
X-LIC-LOCATION:America/New_York
BEGIN:STANDARD
DTSTART:20251102T010000
TZOFFSETFROM:-0400
TZOFFSETTO:-0500
TZNAME:EST
END:STANDARD
END:VTIMEZONE
END:VCALENDAR