BEGIN:VCALENDAR
VERSION:2.0
PRODID:-//wp-events-plugin.com//7.2.3.1//EN
TZID:America/New_York
X-WR-TIMEZONE:America/New_York
BEGIN:VEVENT
UID:7967@tbzbrookline.org
DTSTART;TZID=America/New_York:20260529T090000
DTEND;TZID=America/New_York:20260529T140000
DTSTAMP:20260422T215955Z
URL:https://www.tbzbrookline.org/events/red-cross-blood-at-tbz-in-person/
SUMMARY:Red Cross Blood at TBZ (in person)
DESCRIPTION:Please join us for a blood drive at TBZ on Friday\, May 29\, 20
 26 from 9:00 a.m. to 2:00 p.m. Visit RedCrossBlood.org to schedule an appo
 intment.
ATTACH;FMTTYPE=image/jpeg:https://www.tbzbrookline.org/wp-content/uploads/
 2026/04/Version2.jpg
CATEGORIES:Homepage Featured,In person,Social Justice/Tikkun Olam
LOCATION:Temple Beth Zion\, 1566 Beacon St.\, Brookline\, MA\, 02446-2209\,
  United States
X-APPLE-STRUCTURED-LOCATION;VALUE=URI;X-ADDRESS=1566 Beacon St.\, Brookline
 \, MA\, 02446-2209\, United States;X-APPLE-RADIUS=100;X-TITLE=Temple Beth 
 Zion:geo:0,0
END:VEVENT
BEGIN:VTIMEZONE
TZID:America/New_York
X-LIC-LOCATION:America/New_York
BEGIN:DAYLIGHT
DTSTART:20260308T030000
TZOFFSETFROM:-0500
TZOFFSETTO:-0400
TZNAME:EDT
END:DAYLIGHT
END:VTIMEZONE
END:VCALENDAR