BEGIN:VCALENDAR
VERSION:2.0
PRODID:-//wp-events-plugin.com//7.2.3.1//EN
TZID:America/New_York
X-WR-TIMEZONE:America/New_York
BEGIN:VEVENT
UID:7214@tbzbrookline.org
DTSTART;TZID=America/New_York:20260302T170000
DTEND;TZID=America/New_York:20260302T210000
DTSTAMP:20260211T161827Z
URL:https://www.tbzbrookline.org/events/purim-carnival-and-megillah-readin
 g/
SUMMARY:Purim Carnival and Megillah Reading (in person)
DESCRIPTION:Purim Carnival run by Beit Rabban\, followed by Shpiel and Megi
 llah Reading: \n\nMarch 2 (in person)\n\n4:00 - 5:00pm: Interactive Perfo
 rmance with Davey the Clown (ages 3-10)\, Meeting Room\n\n5:00 - 6:00pm: 
 Purim Carnival\, run by the 6th &amp\; 7th Grades (Mechina &amp\; Rimonim
  groups) of Beit Rabban \n\n6:00-6:30pm: BYO Dairy/Vegetarian Dinner in t
 he Community Room\n\n6:30pm: Purim Spiel\n\n7:00pm: Megillah Reading\n\nAs
  every year\, we will also be collecting donations for Yad Chessed.
ATTACH;FMTTYPE=image/jpeg:https://www.tbzbrookline.org/wp-content/uploads/
 2025/05/Purim_Square.png
CATEGORIES:Families,Holidays,Homepage Featured,In person
LOCATION:Temple Beth Zion\, 1566 Beacon St.\, Brookline\, MA\, 02446-2209\,
  United States
X-APPLE-STRUCTURED-LOCATION;VALUE=URI;X-ADDRESS=1566 Beacon St.\, Brookline
 \, MA\, 02446-2209\, United States;X-APPLE-RADIUS=100;X-TITLE=Temple Beth 
 Zion:geo:0,0
END:VEVENT
BEGIN:VTIMEZONE
TZID:America/New_York
X-LIC-LOCATION:America/New_York
BEGIN:STANDARD
DTSTART:20251102T010000
TZOFFSETFROM:-0400
TZOFFSETTO:-0500
TZNAME:EST
END:STANDARD
END:VTIMEZONE
END:VCALENDAR