BEGIN:VCALENDAR
VERSION:2.0
PRODID:-//wp-events-plugin.com//7.2.3.1//EN
TZID:America/New_York
X-WR-TIMEZONE:America/New_York
BEGIN:VEVENT
UID:7894@tbzbrookline.org
DTSTART;TZID=America/New_York:20260315T140000
DTEND;TZID=America/New_York:20260315T160000
DTSTAMP:20260209T155818Z
URL:https://www.tbzbrookline.org/events/mahjong-in-person-2/
SUMMARY:Mahjong (in person)
DESCRIPTION:Mahjong has come to the TBZ community! Come play with us!\n&nbs
 p\;\nFeb 22 10:00 am-12:00 pm\nMarch 15 2:00-4:00 pm\nMarch 29 2-4 pm\nApr
 il 19 2-4 pm\n&nbsp\;\nAnd more dates to come!\nContact the TBZ office to 
 sign up to play.\n&nbsp\;\nPlease bring your own card! One person per game
  will need a set and racks.\nNo house rules\, NMJL only (no blanks\, etc.)
 \nThis is for TBZ members only at this time. Email info@tbzbrookline.org t
 o be added to the mahjong email list.
ATTACH;FMTTYPE=image/jpeg:https://www.tbzbrookline.org/wp-content/uploads/
 2026/01/Mahjong_Square.png
CATEGORIES:Homepage Featured,In person,Social
END:VEVENT
BEGIN:VTIMEZONE
TZID:America/New_York
X-LIC-LOCATION:America/New_York
BEGIN:DAYLIGHT
DTSTART:20260308T030000
TZOFFSETFROM:-0500
TZOFFSETTO:-0400
TZNAME:EDT
END:DAYLIGHT
END:VTIMEZONE
END:VCALENDAR