BEGIN:VCALENDAR
VERSION:2.0
PRODID:-//wp-events-plugin.com//7.2.3.1//EN
TZID:America/New_York
X-WR-TIMEZONE:America/New_York
BEGIN:VEVENT
UID:2581@tbzbrookline.org
DTSTART;TZID=America/New_York:20220718T190000
DTEND;TZID=America/New_York:20220718T203000
DTSTAMP:20220626T183531Z
URL:https://www.tbzbrookline.org/events/lgbtq-equality-in-israel-the-danil
 owitz-case-with-pnina-lahav-zoom/
SUMMARY:LGBTQ+ Equality in Israel: The Danilowitz case with Pnina Lahav (Zo
 om)
DESCRIPTION:LGBTQ+ Equality in Israel: \nThe Danilowitz case with Pnina La
 hav\nJonathan Danilowitz began the battle after El Al refused to treat him
  and his partner\, with whom he was in a common law relationship\, like ot
 her common law couples employed at the company.\n\nThe dispute between Dan
 ilowitz and El Al went back and forth until the refusal was “so obviousl
 y discriminatory and unfair” that Danilowitz and his partner decided to 
 see what could be done about the matter in a legal sense\, leading to a su
 it against El Al in the Tel Aviv Labor Court. You can read more about the 
 case here.\n\nSee Happenings for the Zoom link.
CATEGORIES:Featured
END:VEVENT
BEGIN:VTIMEZONE
TZID:America/New_York
X-LIC-LOCATION:America/New_York
BEGIN:DAYLIGHT
DTSTART:20220313T030000
TZOFFSETFROM:-0500
TZOFFSETTO:-0400
TZNAME:EDT
END:DAYLIGHT
END:VTIMEZONE
END:VCALENDAR