BEGIN:VCALENDAR
VERSION:2.0
PRODID:-//wp-events-plugin.com//7.2.3.1//EN
TZID:America/New_York
X-WR-TIMEZONE:America/New_York
BEGIN:VEVENT
UID:7863@tbzbrookline.org
DTSTART;TZID=America/New_York:20260309T193000
DTEND;TZID=America/New_York:20260309T210000
DTSTAMP:20260131T142902Z
URL:https://www.tbzbrookline.org/events/learn-to-chant-torah-with-rabbi-eb
 n-leader-2026-03-09/
SUMMARY:Learn to Chant Torah with Rabbi Ebn Leader (in person)
DESCRIPTION:Mondays: March 9\, 16\, 23\, April 13\, 27\, May 4\, 11\, 18\, 
 7:30–9:00pm\n\nJoin Rabbi Ebn Leader for an 8-session\, in-person journe
 y into the art of Torah chanting. This class is for those who already know
  how to read Hebrew and want to learn trope—the musical system that give
 s Torah its rhythm\, structure\, and meaning. Together\, we will build ski
 ll and confidence in a supportive\, thoughtful learning environment\, deep
 ening both our technical ability and our connection to the text. Open only
  to TBZ members\, requires a minimum of 8 participants and a maximum of 12
 .\n\nThe cost is on a sliding scale of $180–$360. If finances are a barr
 ier to taking the class\, please reach out to the office for adjusted tuit
 ion. Register by February 27th so we can confirm whether the class will ru
 n. We look forward to learning and chanting together!
ATTACH;FMTTYPE=image/jpeg:https://www.tbzbrookline.org/wp-content/uploads/
 2025/08/Ebn_Square.png
CATEGORIES:Adult Learning,Homepage Featured,In person
LOCATION:Temple Beth Zion\, 1566 Beacon St.\, Brookline\, MA\, 02446-2209\,
  United States
X-APPLE-STRUCTURED-LOCATION;VALUE=URI;X-ADDRESS=1566 Beacon St.\, Brookline
 \, MA\, 02446-2209\, United States;X-APPLE-RADIUS=100;X-TITLE=Temple Beth 
 Zion:geo:0,0
END:VEVENT
BEGIN:VTIMEZONE
TZID:America/New_York
X-LIC-LOCATION:America/New_York
BEGIN:DAYLIGHT
DTSTART:20260308T030000
TZOFFSETFROM:-0500
TZOFFSETTO:-0400
TZNAME:EDT
END:DAYLIGHT
END:VTIMEZONE
END:VCALENDAR