BEGIN:VCALENDAR
VERSION:2.0
PRODID:-//wp-events-plugin.com//7.2.3.1//EN
TZID:America/New_York
X-WR-TIMEZONE:America/New_York
BEGIN:VEVENT
UID:4777@tbzbrookline.org
DTSTART;TZID=America/New_York:20230930T131500
DTEND;TZID=America/New_York:20230930T141500
DTSTAMP:20230928T180913Z
URL:https://www.tbzbrookline.org/events/kiddush-talk-jarts-ambassadors-rab
 bi-menachem-creditor-and-ruth-messenger-in-person/
SUMMARY:Kiddush Talk: JARTS Ambassadors - Rabbi Menachem Creditor and Ruth 
 Messinger (in person)
DESCRIPTION:JARTS Rabbi Menachem Creditor and Ruth Messinger\n\nBe the Chan
 ge is an art and activism initiative that is inspired by the Jewish tenet 
 of justice and drawing from the ritualistic Jewish tzedakah box. Be the 
 Change is about making space to talk about injustice – and to give us al
 l action steps to be agents of change in our local and global communities.
 \n\nThis year\, you can view the art along the Fenway\, August 2 to Octobe
 r 26. TBZ will welcome the Be the Change Global Ambassador Co-Chairs\, Rab
 bi Menachem Creditor\, the Pearl and Ira Meyer Scholar-in-Residence at UJA
 -Federation New York and founder of Rabbis Against Gun Violence\, and Ruth
  Messinger\, former President and CEO of American Jewish World Service. Th
 ey will participate in services on Friday night and will lead a kiddush ta
 lk after Shabbat morning services.
ATTACH;FMTTYPE=image/jpeg:https://www.tbzbrookline.org/wp-content/uploads/
 2021/11/BeTheChangeLogo.jpg
CATEGORIES:Adult Learning,Featured
LOCATION:Temple Beth Zion\, 1566 Beacon St.\, Brookline\, MA\, 02446-2209\,
  United States
X-APPLE-STRUCTURED-LOCATION;VALUE=URI;X-ADDRESS=1566 Beacon St.\, Brookline
 \, MA\, 02446-2209\, United States;X-APPLE-RADIUS=100;X-TITLE=Temple Beth 
 Zion:geo:0,0
END:VEVENT
BEGIN:VTIMEZONE
TZID:America/New_York
X-LIC-LOCATION:America/New_York
BEGIN:DAYLIGHT
DTSTART:20230312T030000
TZOFFSETFROM:-0500
TZOFFSETTO:-0400
TZNAME:EDT
END:DAYLIGHT
END:VTIMEZONE
END:VCALENDAR