BEGIN:VCALENDAR
VERSION:2.0
PRODID:-//wp-events-plugin.com//7.2.3.1//EN
TZID:America/New_York
X-WR-TIMEZONE:America/New_York
BEGIN:VEVENT
UID:7819@tbzbrookline.org
DTSTART;TZID=America/New_York:20260228T130000
DTEND;TZID=America/New_York:20260228T143000
DTSTAMP:20260210T114153Z
URL:https://www.tbzbrookline.org/events/kiddush-talk-facing-the-megillah-w
 ith-judith-kates-in-person/
SUMMARY:Kiddush Talk: Facing the Megillah with Judith Kates (in person afte
 r Shabbat morning services)
DESCRIPTION:For many years at TBZ\, we have gathered before Purim to learn 
 and prepare for the Megillah\, honoring it as a complex and layered text\,
  one that invites feminist readings and challenges us to reflect on the mo
 vement from victimhood to power. This shared learning has become a cherish
 ed tradition\, allowing us to engage deeply with the text before the holid
 ay itself\, when our focus turns more fully toward joy and celebration. Ju
 dith will lead us in a exploration entitled\, “Doing Better the Second T
 ime” where we will explore the gender issues as well as interconnections
 \, both narrative and linguistic\, with other Biblical texts such as the J
 oseph story and the story of Saul\, both ancestors of Esther and Mordechai
 .
ATTACH;FMTTYPE=image/jpeg:https://www.tbzbrookline.org/wp-content/uploads/
 2026/01/JudithKates_Square.png
CATEGORIES:Homepage Featured,In person,Kiddush Talks and Tables,Shabbat
LOCATION:Temple Beth Zion\, 1566 Beacon St.\, Brookline\, MA\, 02446-2209\,
  United States
X-APPLE-STRUCTURED-LOCATION;VALUE=URI;X-ADDRESS=1566 Beacon St.\, Brookline
 \, MA\, 02446-2209\, United States;X-APPLE-RADIUS=100;X-TITLE=Temple Beth 
 Zion:geo:0,0
END:VEVENT
BEGIN:VTIMEZONE
TZID:America/New_York
X-LIC-LOCATION:America/New_York
BEGIN:STANDARD
DTSTART:20251102T010000
TZOFFSETFROM:-0400
TZOFFSETTO:-0500
TZNAME:EST
END:STANDARD
END:VTIMEZONE
END:VCALENDAR