BEGIN:VCALENDAR
VERSION:2.0
PRODID:-//wp-events-plugin.com//7.2.3.1//EN
TZID:America/New_York
X-WR-TIMEZONE:America/New_York
BEGIN:VEVENT
UID:2579@tbzbrookline.org
DTSTART;TZID=America/New_York:20220812T180000
DTEND;TZID=America/New_York:20220812T193000
DTSTAMP:20220628T134223Z
URL:https://www.tbzbrookline.org/events/kabbalat-shabbat-with-tbz-at-grigg
 s-park-in-person-and-live-streamed/
SUMMARY:Kabbalat Shabbat with TBZ at Griggs Park (In-person)
DESCRIPTION:Join us for special outdoor services. Bring chairs or a blanket
  to sit on. Bring a picnic dinner if you want to stay after the service. M
 asks are not required outside. We will start at 6pm. Please arrive beforeh
 and.\n\n&nbsp\;
ATTACH;FMTTYPE=image/jpeg:https://www.tbzbrookline.org/wp-content/uploads/
 2021/06/GriggsPark.jpeg
CATEGORIES:Featured,Remote Activities
LOCATION:Griggs Park\, 33 Griggs Road\, Brookline\, MA\, United States
X-APPLE-STRUCTURED-LOCATION;VALUE=URI;X-ADDRESS=33 Griggs Road\, Brookline\
 , MA\, United States;X-APPLE-RADIUS=100;X-TITLE=Griggs Park:geo:0,0
END:VEVENT
BEGIN:VTIMEZONE
TZID:America/New_York
X-LIC-LOCATION:America/New_York
BEGIN:DAYLIGHT
DTSTART:20220313T030000
TZOFFSETFROM:-0500
TZOFFSETTO:-0400
TZNAME:EDT
END:DAYLIGHT
END:VTIMEZONE
END:VCALENDAR