BEGIN:VCALENDAR
VERSION:2.0
PRODID:-//wp-events-plugin.com//7.2.3.1//EN
TZID:America/New_York
X-WR-TIMEZONE:America/New_York
BEGIN:VEVENT
UID:1456@tbzbrookline.org
DTSTART;TZID=America/New_York:20220722T180000
DTEND;TZID=America/New_York:20220722T193000
DTSTAMP:20220721T151924Z
URL:https://www.tbzbrookline.org/events/kabbalat-shabbat-with-tbz-2022-07-
 22/
SUMMARY:Kabbalat Shabbat with TBZ at 115 Griggs Road (In-person only)
DESCRIPTION:Jack and Jane Daniels Garden 115 Griggs Rd\, Brookline (aroun
 d the corner from Griggs Park).\n\nEnter through the open gate to the left
  of the house.\nThis new location has plenty of shade\, a water cooler\,
  bathroom access and some chairs.\nYou are still welcome to bring your o
 wn chair/blanket and picnic dinner if you would like to stay after service
 s.
ATTACH;FMTTYPE=image/jpeg:https://www.tbzbrookline.org/wp-content/uploads/
 2021/06/115GriggsRoadMap.png
CATEGORIES:Featured,Remote Activities
END:VEVENT
BEGIN:VTIMEZONE
TZID:America/New_York
X-LIC-LOCATION:America/New_York
BEGIN:DAYLIGHT
DTSTART:20220313T030000
TZOFFSETFROM:-0500
TZOFFSETTO:-0400
TZNAME:EDT
END:DAYLIGHT
END:VTIMEZONE
END:VCALENDAR