BEGIN:VCALENDAR
VERSION:2.0
PRODID:-//wp-events-plugin.com//7.2.3.1//EN
TZID:America/New_York
X-WR-TIMEZONE:America/New_York
BEGIN:VEVENT
UID:7910@tbzbrookline.org
DTSTART;TZID=America/New_York:20260308T190000
DTEND;TZID=America/New_York:20260308T210000
DTSTAMP:20260204T203755Z
URL:https://www.tbzbrookline.org/events/jewish-voices-rising-a-benefit-con
 cert-for-the-children-of-gaza-in-person-newton/
SUMMARY:Jewish Voices Rising: A benefit concert for the children of Gaza (i
 n person - Newton)
DESCRIPTION:\nJewish Voices Rising: A benefit concert for the children of G
 aza\nSunday March 8th · 7-9 pm\nEliot Church of Newton\n474 Centre St\, N
 ewton\, MA (Co-sponsored by TBZ)\nJoin us for an evening of song and inspi
 ration with some of the most exciting Jewish musicians in the Boston area
  — Adah Hetko and Levyosn\, and Molly Bajgot\, Batya Levine\, Marni Lo
 ffman\, and special guests — as we raise our communal voice for healing 
 and transformation in Gaza\, and raise funds for Gaza Children Village.\nP
 lanning on attending? You can register using the donation box. Please don
 ate generously. After adding a donation amount\, simply select "Yes" when 
 asked "Do you plan to attend the concert?" If you can't make it but want t
 o donate anyway\, please select "No." In the weeks following\, we'll be in
  touch with more information!\nThe concert is a benefit for Gaza Children 
 Village\, created by Palestinian-American Dr. David Hasan in April 2025 in
  response to the devastation of Gaza\, and in particular the impact on ten
 s of thousands of orphaned children. Gaza Children Village provides educat
 ion\, nutrition\, healthcare\, and psychosocial support for orphaned and 
 vulnerable children across Gaza.  Learn more about  GCV at www.gazachild
 renvillage.org!
ATTACH;FMTTYPE=image/jpeg:https://www.tbzbrookline.org/wp-content/uploads/
 2026/02/ConcertMar8_Square.png
CATEGORIES:Homepage Featured,In person,Social Justice/Tikkun Olam
LOCATION:Eliot Church of Newton\, 474 Centre Street\, Newton\, MA \, United
  States
X-APPLE-STRUCTURED-LOCATION;VALUE=URI;X-ADDRESS=474 Centre Street\, Newton\
 , MA \, United States;X-APPLE-RADIUS=100;X-TITLE=Eliot Church of Newton:ge
 o:0,0
END:VEVENT
BEGIN:VTIMEZONE
TZID:America/New_York
X-LIC-LOCATION:America/New_York
BEGIN:DAYLIGHT
DTSTART:20260308T030000
TZOFFSETFROM:-0500
TZOFFSETTO:-0400
TZNAME:EDT
END:DAYLIGHT
END:VTIMEZONE
END:VCALENDAR