BEGIN:VCALENDAR
VERSION:2.0
PRODID:-//wp-events-plugin.com//7.2.3.1//EN
TZID:America/New_York
X-WR-TIMEZONE:America/New_York
BEGIN:VEVENT
UID:2390@tbzbrookline.org
DTSTART;TZID=America/New_York:20220602T183000
DTEND;TZID=America/New_York:20220602T203000
DTSTAMP:20220428T185940Z
URL:https://www.tbzbrookline.org/events/hebrew-colleges-centennial-honorin
 g-tbz-members/
SUMMARY:Hebrew College's Centennial Honoring TBZ Members
DESCRIPTION:\n\nPlease join us on&nbsp\;Thursday evening\, June 2\, 2022 fr
 om 6:30-8:30pm (7:30pm Virtually)&nbsp\;for a&nbsp\;hybrid event celebrati
 ng our Hebrew College's Centennial! The program includes uplifting live mu
 sic\; delicious food\; reflections from teachers and alumni on education\,
  history\, and hope\; and blessings for honorees —including TBZ members 
 Jack Eiferman\, Myra Musicant and Howard Cohen.\nClick here to make a trib
 ute and to RSVP
ATTACH;FMTTYPE=image/jpeg:https://www.tbzbrookline.org/wp-content/uploads/
 2022/04/Centennial-Spring-Event-Reg-Page-Banner-01-01-2048x820-1.jpg
CATEGORIES:Featured
END:VEVENT
BEGIN:VTIMEZONE
TZID:America/New_York
X-LIC-LOCATION:America/New_York
BEGIN:DAYLIGHT
DTSTART:20220313T030000
TZOFFSETFROM:-0500
TZOFFSETTO:-0400
TZNAME:EDT
END:DAYLIGHT
END:VTIMEZONE
END:VCALENDAR