BEGIN:VCALENDAR
VERSION:2.0
PRODID:-//wp-events-plugin.com//7.2.3.1//EN
TZID:America/New_York
X-WR-TIMEZONE:America/New_York
BEGIN:VEVENT
UID:6055@tbzbrookline.org
DTSTART;TZID=America/New_York:20241130T130000
DTEND;TZID=America/New_York:20241130T140000
DTSTAMP:20241028T153605Z
URL:https://www.tbzbrookline.org/events/hebrew-101-with-rabbi-sam-seicol-2
 024-11-30/
SUMMARY:Hebrew 101 with Rabbi Sam Seicol
DESCRIPTION:Shabbat mornings: November 2\, 9\, 16\, 23 and 30\n\nDuring/aft
 er Kiddush \n\nJoin Rabbi Sam for a course in basic Hebrew reading with e
 xposure to some grammar and vocabulary. The focus will be on Hebrew prayer
 s. No writing is required.
CATEGORIES:Adult Learning
END:VEVENT
BEGIN:VTIMEZONE
TZID:America/New_York
X-LIC-LOCATION:America/New_York
BEGIN:STANDARD
DTSTART:20241103T010000
TZOFFSETFROM:-0400
TZOFFSETTO:-0500
TZNAME:EST
END:STANDARD
END:VTIMEZONE
END:VCALENDAR