BEGIN:VCALENDAR
VERSION:2.0
PRODID:-//wp-events-plugin.com//7.2.3.1//EN
TZID:America/New_York
X-WR-TIMEZONE:America/New_York
BEGIN:VEVENT
UID:7824@tbzbrookline.org
DTSTART;TZID=America/New_York:20260225T160000
DTEND;TZID=America/New_York:20260225T190000
DTSTAMP:20260122T211912Z
URL:https://www.tbzbrookline.org/events/hamentaschen-dough-making-in-perso
 n/
SUMMARY:Hamentaschen Dough Making (in person)
DESCRIPTION:Wednesday\, February 25\, 4:00-7:00pm (in person)\n\nCome help 
 make dough for our hamentashen! You’ve never seen so much butter in your
  life! The community room is transformed into a dough-making space\, with 
 lots of laughter\, flour\, and good memories. 
ATTACH;FMTTYPE=image/jpeg:https://www.tbzbrookline.org/wp-content/uploads/
 2026/01/Dough_Square.png
CATEGORIES:Holidays,Homepage Featured,In person,Social
LOCATION:Temple Beth Zion\, 1566 Beacon St.\, Brookline\, MA\, 02446-2209\,
  United States
X-APPLE-STRUCTURED-LOCATION;VALUE=URI;X-ADDRESS=1566 Beacon St.\, Brookline
 \, MA\, 02446-2209\, United States;X-APPLE-RADIUS=100;X-TITLE=Temple Beth 
 Zion:geo:0,0
END:VEVENT
BEGIN:VTIMEZONE
TZID:America/New_York
X-LIC-LOCATION:America/New_York
BEGIN:STANDARD
DTSTART:20251102T010000
TZOFFSETFROM:-0400
TZOFFSETTO:-0500
TZNAME:EST
END:STANDARD
END:VTIMEZONE
END:VCALENDAR