BEGIN:VCALENDAR
VERSION:2.0
PRODID:-//wp-events-plugin.com//7.2.3.1//EN
TZID:America/New_York
X-WR-TIMEZONE:America/New_York
BEGIN:VEVENT
UID:7825@tbzbrookline.org
DTSTART;TZID=America/New_York:20260301T110000
DTEND;TZID=America/New_York:20260301T160000
DTSTAMP:20260227T005722Z
URL:https://www.tbzbrookline.org/events/hamentaschen-baking-mishloach-mano
 t-packing-and-purim-deliveries-in-person/
SUMMARY:Hamentaschen Baking\, Mishloach Manot Packing\, and Purim Deliverie
 s (in person)
DESCRIPTION:Sunday\, March 1 \n\nHelp with our annual hamentashen baking\,
  mishloach manot (goodie bags) packing\, and deliveries to our neighbors a
 t 1550 Beacon Street. Every year we try to bake more than the year before!
  Can you deliver? \n11:00 AM – 3:00 PM Baking (Meeting Room)\n12:30 
 – 1:30 PM Rehearsal for the Purim Shpiel (Sanctuary)\n1:00 – 2:30 PM
  Packing Mishloach Manot (Community Room)\nDelivery Drivers &amp\; Self P
 ick-Up:Pick up deliveries between 2:30 – 4:00 PM on Sundayor any time 
 on MondayPlease note: packages may not be ready before 2:30 PM. on Sunday!
 \n2:30 – 3:00 PM Deliveries to 1550 Apartments\n3:00 – 3:30 PM Singi
 ng at the 1550 Community Room (3rd floor\, 1550 Beacon)\n3:30 – 4:00 PM
  Return to TBZ to help clean up
ATTACH;FMTTYPE=image/jpeg:https://www.tbzbrookline.org/wp-content/uploads/
 2026/01/HamentashenBaking_Square.png
CATEGORIES:Beit Rabban/Children's
 Programming/Teens,Families,Holidays,Homepage Featured,In person,Social
LOCATION:Temple Beth Zion\, 1566 Beacon St.\, Brookline\, MA\, 02446-2209\,
  United States
X-APPLE-STRUCTURED-LOCATION;VALUE=URI;X-ADDRESS=1566 Beacon St.\, Brookline
 \, MA\, 02446-2209\, United States;X-APPLE-RADIUS=100;X-TITLE=Temple Beth 
 Zion:geo:0,0
END:VEVENT
BEGIN:VTIMEZONE
TZID:America/New_York
X-LIC-LOCATION:America/New_York
BEGIN:STANDARD
DTSTART:20251102T010000
TZOFFSETFROM:-0400
TZOFFSETTO:-0500
TZNAME:EST
END:STANDARD
END:VTIMEZONE
END:VCALENDAR