BEGIN:VCALENDAR
VERSION:2.0
PRODID:-//wp-events-plugin.com//7.2.3.1//EN
TZID:America/New_York
X-WR-TIMEZONE:America/New_York
BEGIN:VEVENT
UID:4708@tbzbrookline.org
DTSTART;TZID=America/New_York:20230626T190000
DTEND;TZID=America/New_York:20230626T200000
DTSTAMP:20230612T224045Z
URL:https://www.tbzbrookline.org/events/gbio-housing-justice-action/
SUMMARY:GBIO Housing Justice Action
DESCRIPTION:Join us at a GBIO “Power Up” Housing Justice Action\n\nMon
 day\, June 26th  7:00 pm\n\nTEMPLE ISRAEL\, 477 Longwood Ave.\, Boston\n
 \nRegister here.\n\nOver the past few months\, we brought the dire issues 
 around state-owned Public Housing upkeep to the State Legislature. We mo
 ved the needle and increased funding for operating budgets-- but not near
 ly enough! We can still influence legislators before final budget negotia
 tions close.  We must keep pressing for better conditions for the folks 
 who live in unsafe and unsanitary state funded homes.\n\nNOW is the time
  to show up in big numbers to demand our state leaders and legislators 
 address the MA housing crisis. Register here: https://bit.ly/gbiojune26\
 n\nWhen you register\, we’ll reach out to you with more detailed informa
 tion.\n\nFor a brief video overview click here: GBIO Housing Justice Campa
 ign Overview\n\nor a written one-pager\, click here: GBIO Housing Justice
  Campaign Overview and Asks\n\nIf you have any questions\, please contact
  one of us\, TBZ GBIO Core Team*\n\nSusan Bookbinder\, Jane Daniels\, Ra
 chel Goodman\, Aileen Grossman\, Rosalind Joffe\, Gary Kaplan\, Barrie Kel
 ler\, Ira Krotick\, Sarah Langer\, Jerry Levine\, Deb Stang\, Jen Wofford
   *TBZ Tikkun Olum Steering Committee Member
ATTACH;FMTTYPE=image/jpeg:https://www.tbzbrookline.org/wp-content/uploads/
 2023/01/GBIOHouse.png
END:VEVENT
BEGIN:VTIMEZONE
TZID:America/New_York
X-LIC-LOCATION:America/New_York
BEGIN:DAYLIGHT
DTSTART:20230312T030000
TZOFFSETFROM:-0500
TZOFFSETTO:-0400
TZNAME:EDT
END:DAYLIGHT
END:VTIMEZONE
END:VCALENDAR