BEGIN:VCALENDAR
VERSION:2.0
PRODID:-//wp-events-plugin.com//7.2.3.1//EN
TZID:America/New_York
X-WR-TIMEZONE:America/New_York
BEGIN:VEVENT
UID:2386@tbzbrookline.org
DTSTART;TZID=America/New_York:20220623T190000
DTEND;TZID=America/New_York:20220623T210000
DTSTAMP:20220516T225241Z
URL:https://www.tbzbrookline.org/events/gbio-assembly/
SUMMARY:GBIO Assembly - Reentry
DESCRIPTION: \n\nPlease join us at the GBIO-wide Assembly &amp\; Action on
  June 23 at 7:00pm — a hybrid event - on Zoom and in-person at the Seven
 th Day Adventist Church in Hyde Park. We hope to get 25 TBZ members to CO
 ME (virtually or in-person) and show up strongly for GBIO on June 23 as we
  push our three-pronged platform:\n\n\n 	 Reentry/Support for Citizens Re
 turning from Incarceration\n 	 Mental Health/Access and Equity\n 	 Affor
 dable Housing/Home Ownership &amp\; Rentals\,Improved Public Housing Condi
 tions\n\n\nWe’ll hear updates and stories and also be acting — making 
 specific asks of the members of Boston City Council and other state-level 
 officials in attendance.  We want to fill the church with people — and 
 fill the Zoom room with faces — as we speak up and act for change! Regis
 ter here: bit.ly/JuneGBIO\nQuestions: contact Jane or Rachel
ATTACH;FMTTYPE=image/jpeg:https://www.tbzbrookline.org/wp-content/uploads/
 2022/04/GBIO-June-Delegate-Assembly.png
CATEGORIES:Featured
END:VEVENT
BEGIN:VTIMEZONE
TZID:America/New_York
X-LIC-LOCATION:America/New_York
BEGIN:DAYLIGHT
DTSTART:20220313T030000
TZOFFSETFROM:-0500
TZOFFSETTO:-0400
TZNAME:EDT
END:DAYLIGHT
END:VTIMEZONE
END:VCALENDAR