BEGIN:VCALENDAR
VERSION:2.0
PRODID:-//wp-events-plugin.com//7.2.3.1//EN
TZID:America/New_York
X-WR-TIMEZONE:America/New_York
BEGIN:VEVENT
UID:3205@tbzbrookline.org
DTSTART;TZID=America/New_York:20220819T193000
DTEND;TZID=America/New_York:20220819T210000
DTSTAMP:20220807T220556Z
URL:https://www.tbzbrookline.org/events/dor-chadash-new-generation-20s-30s
 -shabbat-dinner/
SUMMARY:Dor Chadash (New Generation): 20s & 30s Shabbat Dinner
DESCRIPTION:20s &amp\; 30s Shabbat Dinner at TBZ\nAugust 19\, 7:30pm\n&nbsp
 \;\nTBZ members and friends are invited to share a Shabbat dinner to recon
 nect with each other\, meet for the first time and share ideas about how T
 BZ can engage our members in this stage of their lives.&nbsp\;RSVP Deadlin
 e is Tuesday\, August 16.\n&nbsp\;\nRSVP HERE\n&nbsp\;
ATTACH;FMTTYPE=image/jpeg:https://www.tbzbrookline.org/wp-content/uploads/
 2022/08/20sand30sHeader.jpg
CATEGORIES:Featured
END:VEVENT
BEGIN:VTIMEZONE
TZID:America/New_York
X-LIC-LOCATION:America/New_York
BEGIN:DAYLIGHT
DTSTART:20220313T030000
TZOFFSETFROM:-0500
TZOFFSETTO:-0400
TZNAME:EDT
END:DAYLIGHT
END:VTIMEZONE
END:VCALENDAR