BEGIN:VCALENDAR
VERSION:2.0
PRODID:-//wp-events-plugin.com//7.2.3.1//EN
TZID:America/New_York
X-WR-TIMEZONE:America/New_York
BEGIN:VEVENT
UID:7916@tbzbrookline.org
DTSTART;TZID=America/New_York:20260308T173000
DTEND;TZID=America/New_York:20260308T190000
DTSTAMP:20260223T200711Z
URL:https://www.tbzbrookline.org/events/diasporic-dishes-sephardic-savorie
 s-for-your-passover-table-in-person/
SUMMARY:Diasporic Dishes: Sephardic Savories for Your Passover Table (in pe
 rson)
DESCRIPTION:Sunday\, March 8th\, 5:30 - 7:00pm\nLooking forward to Passover
  but feeling uninspired by your usual menu? Are you craving new ways to im
 bue your seder with delicious food and rituals? Join Community Creative Fe
 llow and culinary historian Sara Gardner to explore vibrant Jewish flavors
  from across the Sephardic diaspora and to learn how to integrate these re
 cipes and stories into a meaningful and delectable seder experience. Toget
 her we will cook\, taste\, and reflect on how incorporating historical sto
 ries and tastes from our global diaspora can enrich our modern Jewish holi
 day table. This offering is sponsored by TBZ's partnership with the Jewis
 h Arts Collaborative\n\nSign up here.\n\nSara Gardner is a PhD student in 
 the Department of Spanish &amp\; Portuguese Studies at the University of M
 innesota. Her work focuses on the culinary heritage &amp\; cultural identi
 ty of the Sephardic Jews. She previously worked as the Collaborations Mana
 ger for the Jewish Arts Collaborative &amp\; the Associate Director for Yo
 ung Adult Programs at Hebrew College in Boston\, Massachusetts. From 2016-
 2017\, Sara lived &amp\; researched medieval Sephardic culinary heritage i
 n Spain as a Fulbright Graduate Research Scholar. You can buy her cookbook
 \, The Rosh Hashanah Seder Cookbook: Stories and Recipes from the Reform J
 ewish Community of Madrid\, on Amazon.
ATTACH;FMTTYPE=image/jpeg:https://www.tbzbrookline.org/wp-content/uploads/
 2026/02/SaraGardner_Square.png
CATEGORIES:Adult Learning,Holidays,Homepage Featured,In person,Social
LOCATION:Temple Beth Zion\, 1566 Beacon St.\, Brookline\, MA\, 02446-2209\,
  United States
X-APPLE-STRUCTURED-LOCATION;VALUE=URI;X-ADDRESS=1566 Beacon St.\, Brookline
 \, MA\, 02446-2209\, United States;X-APPLE-RADIUS=100;X-TITLE=Temple Beth 
 Zion:geo:0,0
END:VEVENT
BEGIN:VTIMEZONE
TZID:America/New_York
X-LIC-LOCATION:America/New_York
BEGIN:DAYLIGHT
DTSTART:20260308T030000
TZOFFSETFROM:-0500
TZOFFSETTO:-0400
TZNAME:EDT
END:DAYLIGHT
END:VTIMEZONE
END:VCALENDAR