BEGIN:VCALENDAR
VERSION:2.0
PRODID:-//wp-events-plugin.com//7.2.3.1//EN
TZID:America/New_York
X-WR-TIMEZONE:America/New_York
BEGIN:VEVENT
UID:2432@tbzbrookline.org
DTSTART;TZID=America/New_York:20220605T000000
DTEND;TZID=America/New_York:20220605T041500
DTSTAMP:20220601T204518Z
URL:https://www.tbzbrookline.org/events/community-tikkun-leil-shavuot-in-b
 rookline/
SUMMARY:Community Tikkun Leil Shavuot in Brookline (Continues from Saturday
  night)
DESCRIPTION:\nCommunity Tikkun Leil Shavuot in Brookline\nJune 4\, 10:30pm*
 \, 384 Harvard St. Brookline - until June 5\, 4:15am\nChanel your inner ni
 ght owl at the Community Tikkun Leil Shavuot in Brookline Come for one hou
 r\, or stay up all-night. Learn from world-renowned educators and neighbor
 hood favorites. For the Tikkun schedule and session descriptions\, and v
 isit HERE to RSVP or volunteer.\n*There will be one Pre-Session at 7:30p o
 utside in the tent. You MUST pre-register to attend. Space is limited and 
 we will give priority to those aged 55+
ATTACH;FMTTYPE=image/jpeg:https://www.tbzbrookline.org/wp-content/uploads/
 2021/12/Brookline-ShavuotImage.png
CATEGORIES:Featured
LOCATION:Community Tikkun Leil Shavuot in Brookline\, 384 Harvard St.\, Bro
 okline\, MA\, United States
X-APPLE-STRUCTURED-LOCATION;VALUE=URI;X-ADDRESS=384 Harvard St.\, Brookline
 \, MA\, United States;X-APPLE-RADIUS=100;X-TITLE=Community Tikkun Leil Sha
 vuot in Brookline:geo:0,0
END:VEVENT
BEGIN:VTIMEZONE
TZID:America/New_York
X-LIC-LOCATION:America/New_York
BEGIN:DAYLIGHT
DTSTART:20220313T030000
TZOFFSETFROM:-0500
TZOFFSETTO:-0400
TZNAME:EDT
END:DAYLIGHT
END:VTIMEZONE
END:VCALENDAR