BEGIN:VCALENDAR
VERSION:2.0
PRODID:-//wp-events-plugin.com//7.2.3.1//EN
TZID:America/New_York
X-WR-TIMEZONE:America/New_York
BEGIN:VEVENT
UID:2392@tbzbrookline.org
DTSTART;TZID=America/New_York:20220620T193000
DTEND;TZID=America/New_York:20220620T210000
DTSTAMP:20220525T214047Z
URL:https://www.tbzbrookline.org/events/bob-dylanman-god-law-w-dr-stephen-
 arnoff/
SUMMARY:Discussin’\, Singin’ and Drinkin’ the Spiritual Wisdom of Bob
  Dylan
DESCRIPTION:Discussin’\, Singin’ and Drinkin’ the Spiritual Wisdom of
  Bob Dylan\n\nIn Person and Zoom (the event will not be recorded)\n\nBob D
 ylan’s need to know what’s blowing in the wind has shaped much of our 
 understanding about the meaning of life\, the universe\, and everything fo
 r more than sixty years. Join Dr. Stephen Daniel Arnoff\, author of About 
 Man and God and Law: The Spiritual Wisdom of Bob Dylan\, and TBZ member\,
   Globe Music Critic Jeremy Eichler for a conversation about Dylan's rest
 less journey to wisdom through the lens of sacred text\, a good\, strong d
 rink\, and the magic of rock and roll.\n\nExclusive Tasting of Bob Dylan
 ’s Signature “Heaven’s Door” Whiskey\, Rye and Bourbon*\n\n*Non al
 coholic beverages will be served\n\nBooks for Sale\n\nNo need to RSVP to a
 ttend in person\, but to join us on Zoom\, you must sign up to receive the
  Zoom link HERE. (After registering\, you will receive a confirmation emai
 l containing information about joining the meeting.)\n\nStephen Daniel Arn
 off illuminates the intersection of popular culture and religion. His book
  About Man and God and Law: The Spiritual Wisdom of Bob Dylan has been cal
 led "evocative\," "soulful\," "stirring\," and "a revelation." Teaching an
 d lecturing around the world\, Stephen lives in Jerusalem\, where he is CE
 O of the Fuchsberg Jerusalem Center. Find out more at www.mangodlaw.com.\n
 \n&nbsp\;\n\n&nbsp\;\n\n\n\nJeremy Eichler is an award-winning critic\, wr
 iter and cultural historian who\, since 2006\, has served as chief classic
 al music critic of the Boston Globe. His writing has also appeared in the 
 New Yorker\, New York Times and Washington Post. His forthcoming book\, Af
 ter Silence\, addresses music as cultural memory of the Second World War a
 nd Holocaust\, and will be published by Alfred A. Knopf. Find out more at 
 www.jeremy-eichler.com.     \n\n&nbsp\;
ATTACH;FMTTYPE=image/jpeg:https://www.tbzbrookline.org/wp-content/uploads/
 2022/03/MGL-Book-Cover-_002_.png
CATEGORIES:Featured
END:VEVENT
BEGIN:VTIMEZONE
TZID:America/New_York
X-LIC-LOCATION:America/New_York
BEGIN:DAYLIGHT
DTSTART:20220313T030000
TZOFFSETFROM:-0500
TZOFFSETTO:-0400
TZNAME:EDT
END:DAYLIGHT
END:VTIMEZONE
END:VCALENDAR