BEGIN:VCALENDAR
VERSION:2.0
PRODID:-//wp-events-plugin.com//7.2.3.1//EN
TZID:America/New_York
X-WR-TIMEZONE:America/New_York
BEGIN:VEVENT
UID:1984@tbzbrookline.org
DTSTART;TZID=America/New_York:20220604T131500
DTEND;TZID=America/New_York:20220604T143000
DTSTAMP:20220405T225732Z
URL:https://www.tbzbrookline.org/events/bnei-mitzvah-group-after-kiddush-2
 /
SUMMARY:B'nei Mitzvah Group (After Kiddush)
DESCRIPTION:
END:VEVENT
BEGIN:VTIMEZONE
TZID:America/New_York
X-LIC-LOCATION:America/New_York
BEGIN:DAYLIGHT
DTSTART:20220313T030000
TZOFFSETFROM:-0500
TZOFFSETTO:-0400
TZNAME:EDT
END:DAYLIGHT
END:VTIMEZONE
END:VCALENDAR