BEGIN:VCALENDAR
VERSION:2.0
PRODID:-//wp-events-plugin.com//7.2.3.1//EN
TZID:America/New_York
X-WR-TIMEZONE:America/New_York
BEGIN:VEVENT
UID:4106@tbzbrookline.org
DTSTART;TZID=America/New_York:20230930T130000
DTEND;TZID=America/New_York:20230930T143000
DTSTAMP:20230823T215107Z
URL:https://www.tbzbrookline.org/events/bmitzvah-group-for-new-families-to
 -tbz/
SUMMARY:B'Mitzvah Group (for 6th Grade Families only) (in person)
DESCRIPTION:For families of 6th and 7th graders who are registered for the 
 b’mitzvah group. Join Rav Claudia and Rav Tiferet to prepare for becomin
 g a b’mitzvah family! Using the Moving Traditions B’Mitzvah Family Edu
 cation Program\, sessions inspire connection to Jewish community by center
 ing on human development and the parent-child relationship. These sessions
  help navigate this life stage by addressing the joys and challenges of be
 coming and parenting a teen. 
CATEGORIES:Beit Rabban/Children's Programming/Teens
LOCATION:Temple Beth Zion\, 1566 Beacon St.\, Brookline\, MA\, 02446-2209\,
  United States
X-APPLE-STRUCTURED-LOCATION;VALUE=URI;X-ADDRESS=1566 Beacon St.\, Brookline
 \, MA\, 02446-2209\, United States;X-APPLE-RADIUS=100;X-TITLE=Temple Beth 
 Zion:geo:0,0
END:VEVENT
BEGIN:VTIMEZONE
TZID:America/New_York
X-LIC-LOCATION:America/New_York
BEGIN:DAYLIGHT
DTSTART:20230312T030000
TZOFFSETFROM:-0500
TZOFFSETTO:-0400
TZNAME:EDT
END:DAYLIGHT
END:VTIMEZONE
END:VCALENDAR