BEGIN:VCALENDAR
VERSION:2.0
PRODID:-//wp-events-plugin.com//7.2.3.1//EN
TZID:America/New_York
X-WR-TIMEZONE:America/New_York
BEGIN:VEVENT
UID:1524@tbzbrookline.org
DTSTART;TZID=America/New_York:20220601T183000
DTEND;TZID=America/New_York:20220601T203000
DTSTAMP:20220601T203434Z
URL:https://www.tbzbrookline.org/events/art-of-the-spirit-celebrating-the-
 faith-quilts-2/
SUMMARY:Art of the Spirit: Celebrating the Faith Quilts
DESCRIPTION:\n\nOur Faith Quilts\, the cornerstones of our Sanctuary\, have
  many great stories to share. We hope you will join us in learning from a
 nd celebrating the TBZ members who participated in creating them.\n\nA gr
 oup of TBZ members\, (The Bimers (:-)) led by Beverly Sky\, have been wor
 king on creating a new Bereshit Bimah cover\, to complement  the Faith Q
 uilts. The Bereshit Bimah will be installed that evening.\n\nYou can expec
 t a good movie\, good conversation and creative inspiration (and some snac
 ks!).\n\nAll are welcome to join us in person or online! (See Happenings f
 or the Zoom link)
ATTACH;FMTTYPE=image/jpeg:https://www.tbzbrookline.org/wp-content/uploads/
 2021/12/14-Blue-Panel_small.jpg
CATEGORIES:Featured
END:VEVENT
BEGIN:VTIMEZONE
TZID:America/New_York
X-LIC-LOCATION:America/New_York
BEGIN:DAYLIGHT
DTSTART:20220313T030000
TZOFFSETFROM:-0500
TZOFFSETTO:-0400
TZNAME:EDT
END:DAYLIGHT
END:VTIMEZONE
END:VCALENDAR