BEGIN:VCALENDAR
VERSION:2.0
PRODID:-//wp-events-plugin.com//7.2.3.1//EN
TZID:America/New_York
X-WR-TIMEZONE:America/New_York
BEGIN:VEVENT
UID:7846@tbzbrookline.org
DTSTART;TZID=America/New_York:20260319T190000
DTEND;TZID=America/New_York:20260319T203000
DTSTAMP:20260204T192840Z
URL:https://www.tbzbrookline.org/events/an-evening-with-author-tbz-member-
 shulamit-reinharz-in-person-at-hebrew-college/
SUMMARY:An Evening with Author & TBZ Member Shulamit Reinharz (in person at
  Hebrew College)
DESCRIPTION:Thursday\, March 19\, 7:00pm (in person)\n\nat Hebrew College\,
  1860 Washington Street\, Newton \nHiding in Holland: A Resistant Memoir\
 nJoin us on Thursday\, March 19\, 2026 for a free book talk with Dr. Shula
 mit Reinharz about the book Hiding in Holland: A Resistance Memoir\, which
  she penned with her father Max Rothschild. Together\, they tell the story
  of a Jewish man who saved his life repeatedly during the Holocaust\, even
 tually being hidden by Dutch Righteous Gentiles for three years. Hiding in
  Holland presents Max’s roller-coaster ride of living and almost dying i
 n Holland\, exploring in depth what it meant to be an onderduiker. What wa
 s it like to hide in a brothel or with someone you didn’t like? What was
  it like to switch hiding locations repeatedly? How did outsiders help? Ho
 w did hiders deal with Nazi raids? And how did Max retain his sanity?\n\nM
 ax answers these questions by offering a new definition of “resistance
 ” understood in terms of the Jewish person’s experience. Shulamit intr
 oduces historical contexts that challenge the exaggerated stereotypes of t
 he valorous Dutch. Together\, this inner and outer perspective helps expla
 in why the Netherlands had the worst record of Jewish annihilation of all 
 Western European countries. Only now are Dutch government leaders acknowle
 dging the truth.\n\nEvent Co-Hosts\nSusan Harris\nAnnette Miller\nSuzanne 
 Priebatsch\nRabbi Ma’ayan Sands\n\nREGISTER HERE\n\n\n\n\nDR. SHULAMIT R
 EINHARZ\n\n\nDr. Shulamit Reinharz is Jacob Potofsky Professor of Sociolog
 y\, Emerita and Founding Director of the Women’s Studies Research Center
  at Brandies University as well as Founding Director of the Hadassah-Brand
 eis Institute. Her areas of teaching include group dynamics\, history of s
 ociology\, social psychology\, the relation between Jews\, gender and art.
  Since 1991\, she has been deeply engaged in institution building\, first 
 as director of the Women’s Studies Program at Brandeis\, and then as fou
 nder of two research institutes housed in a renovated building that she de
 signed.\n\nReinharz is deeply engaged in community development\, in Jewish
  women’s studies\, and empowering students and scholars through various 
 new programs including investigative journalism\, a college women’s heal
 th website\, a flourishing art gallery\, a book publication series\, etc. 
 All of these new activities are propelled and shaped by her sociological i
 magination.\n\nShe holds a PhD from Brandies.\n\n\n\n\n\n\n\n\n\n\n\n\n\n\
 n\n\n\n\n\n\n\n\n\n\n\n\n\n\n\n\n\n\n\n
ATTACH;FMTTYPE=image/jpeg:https://www.tbzbrookline.org/wp-content/uploads/
 2026/01/reinharz-shulamit.jpg
CATEGORIES:Adult Learning,Homepage Featured,In person
LOCATION:Hebrew College Beit Midrash\, 1860 Washington Street\, Newton\, MA
 \, 02466\, United States
X-APPLE-STRUCTURED-LOCATION;VALUE=URI;X-ADDRESS=1860 Washington Street\, Ne
 wton\, MA\, 02466\, United States;X-APPLE-RADIUS=100;X-TITLE=Hebrew Colleg
 e Beit Midrash:geo:0,0
END:VEVENT
BEGIN:VTIMEZONE
TZID:America/New_York
X-LIC-LOCATION:America/New_York
BEGIN:DAYLIGHT
DTSTART:20260308T030000
TZOFFSETFROM:-0500
TZOFFSETTO:-0400
TZNAME:EDT
END:DAYLIGHT
END:VTIMEZONE
END:VCALENDAR