BEGIN:VCALENDAR
VERSION:2.0
PRODID:-//wp-events-plugin.com//7.2.3.1//EN
TZID:America/New_York
X-WR-TIMEZONE:America/New_York
BEGIN:VEVENT
UID:7231@tbzbrookline.org
DTSTART;TZID=America/New_York:20260315T100000
DTEND;TZID=America/New_York:20260315T120000
DTSTAMP:20260213T190752Z
URL:https://www.tbzbrookline.org/events/aaag-pack-and-learn-3/
SUMMARY:AAAG Pack and Learn (in person)
DESCRIPTION:AAAG TLC Kit Packing\n\nSunday\, March 15\, 10:00am-12:00pm (in
  person)\n\nRSVP here.\n\nPlease join the Abortion Access Action Group in 
 person to support the Women’s Health Services (WHS) in Brookline. We wil
 l assemble the items the community collects into attractive “TLC kits”
  for patients. Each will include a hand-written note-card expressing our s
 upport\, which we will write and decorate collectively.\n\nHere's a list o
 f items needed.
ATTACH;FMTTYPE=image/jpeg:https://www.tbzbrookline.org/wp-content/uploads/
 2025/03/AAAG25_SquareREv.png
CATEGORIES:Adult Learning,Homepage Featured,In person,Social,Social
 Justice/Tikkun Olam
LOCATION:Temple Beth Zion\, 1566 Beacon St.\, Brookline\, MA\, 02446-2209\,
  United States
X-APPLE-STRUCTURED-LOCATION;VALUE=URI;X-ADDRESS=1566 Beacon St.\, Brookline
 \, MA\, 02446-2209\, United States;X-APPLE-RADIUS=100;X-TITLE=Temple Beth 
 Zion:geo:0,0
END:VEVENT
BEGIN:VTIMEZONE
TZID:America/New_York
X-LIC-LOCATION:America/New_York
BEGIN:DAYLIGHT
DTSTART:20260308T030000
TZOFFSETFROM:-0500
TZOFFSETTO:-0400
TZNAME:EDT
END:DAYLIGHT
END:VTIMEZONE
END:VCALENDAR